BEGIN:VCALENDAR
VERSION:2.0
PRODID:-//Wszystko o triathlonie - ECPv6.15.20//NONSGML v1.0//EN
CALSCALE:GREGORIAN
METHOD:PUBLISH
X-WR-CALNAME:Wszystko o triathlonie
X-ORIGINAL-URL:https://triathloninfo.pl
X-WR-CALDESC:Wydarzenia dla Wszystko o triathlonie
REFRESH-INTERVAL;VALUE=DURATION:PT1H
X-Robots-Tag:noindex
X-PUBLISHED-TTL:PT1H
BEGIN:VTIMEZONE
TZID:Europe/Warsaw
BEGIN:DAYLIGHT
TZOFFSETFROM:+0100
TZOFFSETTO:+0200
TZNAME:CEST
DTSTART:20240331T010000
END:DAYLIGHT
BEGIN:STANDARD
TZOFFSETFROM:+0200
TZOFFSETTO:+0100
TZNAME:CET
DTSTART:20241027T010000
END:STANDARD
BEGIN:DAYLIGHT
TZOFFSETFROM:+0100
TZOFFSETTO:+0200
TZNAME:CEST
DTSTART:20250330T010000
END:DAYLIGHT
BEGIN:STANDARD
TZOFFSETFROM:+0200
TZOFFSETTO:+0100
TZNAME:CET
DTSTART:20251026T010000
END:STANDARD
BEGIN:DAYLIGHT
TZOFFSETFROM:+0100
TZOFFSETTO:+0200
TZNAME:CEST
DTSTART:20260329T010000
END:DAYLIGHT
BEGIN:STANDARD
TZOFFSETFROM:+0200
TZOFFSETTO:+0100
TZNAME:CET
DTSTART:20261025T010000
END:STANDARD
END:VTIMEZONE
BEGIN:VEVENT
DTSTART;VALUE=DATE:20250830
DTEND;VALUE=DATE:20250831
DTSTAMP:20260420T204519
CREATED:20250226T140401Z
LAST-MODIFIED:20250226T140401Z
UID:825-1756512000-1756598399@triathloninfo.pl
SUMMARY:Mountain Triathlon Wojanów-Borowice 2025
DESCRIPTION:
URL:https://triathloninfo.pl/event/mountain-triathlon-wojanow-borowice-2025/
LOCATION:Wojanów dolnośląskie
CATEGORIES:Triathlon - extreme
END:VEVENT
BEGIN:VEVENT
DTSTART;VALUE=DATE:20250824
DTEND;VALUE=DATE:20250825
DTSTAMP:20260420T204519
CREATED:20250226T140323Z
LAST-MODIFIED:20250226T140323Z
UID:812-1755993600-1756079999@triathloninfo.pl
SUMMARY:Ocean Lava Metalkas Triathlon Polska Bydgoszcz-Borówno 2025
DESCRIPTION:
URL:https://triathloninfo.pl/event/ocean-lava-metalkas-triathlon-polska-bydgoszcz-borowno-2025/
LOCATION:Bydgoszcz kujawsko-pomorskie
CATEGORIES:Kids - duathlon,Triathlon - 1/2 ironman,Triathlon - ironman,Triathlon - sprint
END:VEVENT
BEGIN:VEVENT
DTSTART;VALUE=DATE:20250824
DTEND;VALUE=DATE:20250825
DTSTAMP:20260420T204519
CREATED:20250226T140229Z
LAST-MODIFIED:20250226T140229Z
UID:811-1755993600-1756079999@triathloninfo.pl
SUMMARY:Garmin Triathlon Tour Stężyca 2025
DESCRIPTION:
URL:https://triathloninfo.pl/event/garmin-triathlon-tour-stezyca-2025/
LOCATION:Stężyca lubelskie
CATEGORIES:Triathlon - 1/2 ironman,Triathlon - 1/4 ironman,Triathlon - 1/8 ironman
END:VEVENT
BEGIN:VEVENT
DTSTART;VALUE=DATE:20250824
DTEND;VALUE=DATE:20250825
DTSTAMP:20260420T204519
CREATED:20250226T140158Z
LAST-MODIFIED:20250226T140158Z
UID:810-1755993600-1756079999@triathloninfo.pl
SUMMARY:Lotto Triathlon Energy Mrągowo 2025
DESCRIPTION:
URL:https://triathloninfo.pl/event/lotto-triathlon-energy-mragowo-2025/
LOCATION:Mrągowo warmińsko-mazurskie
CATEGORIES:Sztafeta - 1/4 ironman,Sztafeta - 1/8 ironman,Triathlon - 1/4 ironman,Triathlon - 1/8 ironman
END:VEVENT
BEGIN:VEVENT
DTSTART;VALUE=DATE:20250823
DTEND;VALUE=DATE:20250824
DTSTAMP:20260420T204519
CREATED:20250226T140121Z
LAST-MODIFIED:20250226T140121Z
UID:809-1755907200-1755993599@triathloninfo.pl
SUMMARY:GREATMAN Kłodawa Triathlon 2025
DESCRIPTION:
URL:https://triathloninfo.pl/event/greatman-klodawa-triathlon-2025/
LOCATION:Kłodawa wielkopolskie
CATEGORIES:Kids - duathlon,Kids - triathlon,Sztafeta - 1/4 ironman,Sztafeta - 1/8 ironman,Triathlon - 1/4 ironman,Triathlon - 1/8 ironman
END:VEVENT
BEGIN:VEVENT
DTSTART;VALUE=DATE:20250817
DTEND;VALUE=DATE:20250818
DTSTAMP:20260420T204519
CREATED:20250226T140000Z
LAST-MODIFIED:20250226T140000Z
UID:808-1755388800-1755475199@triathloninfo.pl
SUMMARY:IRONMAN 70.3 Hradec Králové 2025
DESCRIPTION:
URL:https://triathloninfo.pl/event/ironman-70-3-hradec-kralove-2025/
LOCATION:Hradec Králové
CATEGORIES:Triathlon - 1/2 ironman,Triathlon - olimpijski
END:VEVENT
BEGIN:VEVENT
DTSTART;VALUE=DATE:20250816
DTEND;VALUE=DATE:20250817
DTSTAMP:20260420T204519
CREATED:20250226T135931Z
LAST-MODIFIED:20250226T135931Z
UID:807-1755302400-1755388799@triathloninfo.pl
SUMMARY:MSE Bielawa Crosstriathlon 2025 Mistrzostwa Polski w Crosstriathlonie 2025
DESCRIPTION:
URL:https://triathloninfo.pl/event/mse-bielawa-crosstriathlon-2025-mistrzostwa-polski-w-crosstriathlonie-2025/
LOCATION:Bielawa dolnośląskie
CATEGORIES:CROSSTRIATHLON SPRINT (MP),CROSSTRIATHLON STANDARD,CROSSTRIATHLON SZTAFETA SPRINT
END:VEVENT
BEGIN:VEVENT
DTSTART;VALUE=DATE:20250815
DTEND;VALUE=DATE:20250819
DTSTAMP:20260420T204519
CREATED:20250226T135853Z
LAST-MODIFIED:20250226T135853Z
UID:794-1755216000-1755561599@triathloninfo.pl
SUMMARY:Poland Ultra Triathlon 2025
DESCRIPTION:
URL:https://triathloninfo.pl/event/poland-ultra-triathlon-2025/
LOCATION:Jastarnia pomorskie
CATEGORIES:Triathlon - extreme
END:VEVENT
BEGIN:VEVENT
DTSTART;VALUE=DATE:20250810
DTEND;VALUE=DATE:20250811
DTSTAMP:20260420T204519
CREATED:20250226T135753Z
LAST-MODIFIED:20250226T135753Z
UID:793-1754784000-1754870399@triathloninfo.pl
SUMMARY:Lotto Triathlon Energy Chełmża 2025
DESCRIPTION:
URL:https://triathloninfo.pl/event/lotto-triathlon-energy-chelmza-2025/
LOCATION:Chełmża kujawsko-pomorskie
CATEGORIES:Sztafeta - 1/4 ironman,Sztafeta - 1/8 ironman,Triathlon - 1/4 ironman,Triathlon - 1/8 ironman
END:VEVENT
BEGIN:VEVENT
DTSTART;VALUE=DATE:20250810
DTEND;VALUE=DATE:20250811
DTSTAMP:20260420T204519
CREATED:20250226T135724Z
LAST-MODIFIED:20250226T135724Z
UID:792-1754784000-1754870399@triathloninfo.pl
SUMMARY:Kałuszyn Triathlon Cup 2025
DESCRIPTION:
URL:https://triathloninfo.pl/event/kaluszyn-triathlon-cup-2025/
LOCATION:Kałuszyn mazowieckie
CATEGORIES:Triathlon - 1/4 ironman,Triathlon - 1/8 ironman
END:VEVENT
BEGIN:VEVENT
DTSTART;VALUE=DATE:20250803
DTEND;VALUE=DATE:20250804
DTSTAMP:20260420T204519
CREATED:20250310T091639Z
LAST-MODIFIED:20250310T091639Z
UID:983-1754179200-1754265599@triathloninfo.pl
SUMMARY:Garmin Iron Triathlon Serock
DESCRIPTION:Mistrzostwa Klubu Trimasters
URL:https://triathloninfo.pl/event/garmin-iron-triathlon-serock/
LOCATION:Serock mazowieckie
CATEGORIES:Triathlon - 1/2 ironman,Triathlon - 1/4 ironman,Triathlon - 1/8 ironman
END:VEVENT
BEGIN:VEVENT
DTSTART;VALUE=DATE:20250803
DTEND;VALUE=DATE:20250804
DTSTAMP:20260420T204519
CREATED:20250226T135654Z
LAST-MODIFIED:20250226T135654Z
UID:791-1754179200-1754265599@triathloninfo.pl
SUMMARY:Mkl Triathlon Siedlecki 2025
DESCRIPTION:
URL:https://triathloninfo.pl/event/mkl-triathlon-siedlecki-2025/
LOCATION:Siedlce mazowieckie
CATEGORIES:Kids - duathlon,Sztafeta - sprint,Triathlon - sprint
END:VEVENT
BEGIN:VEVENT
DTSTART;VALUE=DATE:20250803
DTEND;VALUE=DATE:20250804
DTSTAMP:20260420T204519
CREATED:20250226T135605Z
LAST-MODIFIED:20250226T135605Z
UID:790-1754179200-1754265599@triathloninfo.pl
SUMMARY:GREATMAN Kórnik Triathlon 2025
DESCRIPTION:
URL:https://triathloninfo.pl/event/greatman-kornik-triathlon-2025/
LOCATION:Kórnik wielkopolskie
CATEGORIES:Kids - duathlon,Kids - triathlon,Sztafeta - 1/2 ironman,Sztafeta - 1/4 ironman,Sztafeta - 1/8 ironman,Sztafeta - ironman,Triathlon - 1/2 ironman,Triathlon - 1/4 ironman,Triathlon - 1/8 ironman,Triathlon - ironman
END:VEVENT
BEGIN:VEVENT
DTSTART;VALUE=DATE:20250803
DTEND;VALUE=DATE:20250804
DTSTAMP:20260420T204519
CREATED:20250226T135428Z
LAST-MODIFIED:20250226T135428Z
UID:789-1754179200-1754265599@triathloninfo.pl
SUMMARY:Garmin Triathlon Tour Serock 2025
DESCRIPTION:
URL:https://triathloninfo.pl/event/garmin-triathlon-tour-serock-2025/
LOCATION:Serock mazowieckie
CATEGORIES:Triathlon - 1/2 ironman,Triathlon - 1/4 ironman,Triathlon - 1/8 ironman
END:VEVENT
BEGIN:VEVENT
DTSTART;VALUE=DATE:20250801
DTEND;VALUE=DATE:20250804
DTSTAMP:20260420T204519
CREATED:20250226T135356Z
LAST-MODIFIED:20250226T135356Z
UID:780-1754006400-1754265599@triathloninfo.pl
SUMMARY:IRONMAN 70.3 Kraków 2025
DESCRIPTION:
URL:https://triathloninfo.pl/event/ironman-70-3-krakow-2025/
LOCATION:Kraków małopolskie
CATEGORIES:Triathlon - 1/2 ironman
END:VEVENT
BEGIN:VEVENT
DTSTART;VALUE=DATE:20250727
DTEND;VALUE=DATE:20250728
DTSTAMP:20260420T204519
CREATED:20250226T135319Z
LAST-MODIFIED:20250226T135319Z
UID:779-1753574400-1753660799@triathloninfo.pl
SUMMARY:Lotto Triathlon Energy Gniewino 2025
DESCRIPTION:
URL:https://triathloninfo.pl/event/lotto-triathlon-energy-gniewino-2025/
LOCATION:Gniewino pomorskie
CATEGORIES:Sztafeta - 1/4 ironman,Sztafeta - 1/8 ironman,Triathlon - 1/4 ironman,Triathlon - 1/8 ironman
END:VEVENT
BEGIN:VEVENT
DTSTART;VALUE=DATE:20250727
DTEND;VALUE=DATE:20250728
DTSTAMP:20260420T204519
CREATED:20250226T135242Z
LAST-MODIFIED:20250226T135242Z
UID:778-1753574400-1753660799@triathloninfo.pl
SUMMARY:Garmin Triathlon Tour Rawa Mazowiecka 2025
DESCRIPTION:
URL:https://triathloninfo.pl/event/garmin-triathlon-tour-rawa-mazowiecka-2025/
LOCATION:Rawa Mazowiecka łódzkie
CATEGORIES:Triathlon - 1/2 ironman,Triathlon - 1/4 ironman,Triathlon - 1/8 ironman
END:VEVENT
BEGIN:VEVENT
DTSTART;VALUE=DATE:20250727
DTEND;VALUE=DATE:20250728
DTSTAMP:20260420T204519
CREATED:20250226T135217Z
LAST-MODIFIED:20250226T135217Z
UID:777-1753574400-1753660799@triathloninfo.pl
SUMMARY:Cross Triathlon Szczytno 2025
DESCRIPTION:
URL:https://triathloninfo.pl/event/cross-triathlon-szczytno-2025/
LOCATION:Szczytno warmińsko-mazurskie
CATEGORIES:Kids - duathlon,Sztafeta - 1/16 ironman,Sztafeta - 1/4 ironman,Sztafeta - 1/8 ironman,Triathlon - 1/16 ironman,Triathlon - 1/4 ironman,Triathlon - 1/8 ironman
END:VEVENT
BEGIN:VEVENT
DTSTART;VALUE=DATE:20250726
DTEND;VALUE=DATE:20250727
DTSTAMP:20260420T204519
CREATED:20250226T135115Z
LAST-MODIFIED:20250226T135115Z
UID:776-1753488000-1753574399@triathloninfo.pl
SUMMARY:Isands Cross Triathlon Starachowice 2025
DESCRIPTION:
URL:https://triathloninfo.pl/event/isands-cross-triathlon-starachowice-2025/
LOCATION:Starachowice świętokrzyskie
CATEGORIES:Sztafeta - sprint,Triathlon - sprint
END:VEVENT
BEGIN:VEVENT
DTSTART;VALUE=DATE:20250726
DTEND;VALUE=DATE:20250727
DTSTAMP:20260420T204519
CREATED:20250226T135034Z
LAST-MODIFIED:20250226T135034Z
UID:763-1753488000-1753574399@triathloninfo.pl
SUMMARY:Xiv Golczewski Triathlon 2025
DESCRIPTION:
URL:https://triathloninfo.pl/event/xiv-golczewski-triathlon-2025/
LOCATION:Golczewo zachodniopomorskie
CATEGORIES:Triathlon - 1/4 ironman
END:VEVENT
BEGIN:VEVENT
DTSTART;VALUE=DATE:20250720
DTEND;VALUE=DATE:20250721
DTSTAMP:20260420T204519
CREATED:20250226T135010Z
LAST-MODIFIED:20250226T135010Z
UID:762-1752969600-1753055999@triathloninfo.pl
SUMMARY:Garmin Triathlon Tour Gołdap 2025
DESCRIPTION:
URL:https://triathloninfo.pl/event/garmin-triathlon-tour-goldap-2025/
LOCATION:Gołdap warmińsko-mazurskie
CATEGORIES:Triathlon - 1/2 ironman,Triathlon - 1/4 ironman,Triathlon - 1/8 ironman
END:VEVENT
BEGIN:VEVENT
DTSTART;VALUE=DATE:20250720
DTEND;VALUE=DATE:20250721
DTSTAMP:20260420T204519
CREATED:20250226T134917Z
LAST-MODIFIED:20250226T134917Z
UID:761-1752969600-1753055999@triathloninfo.pl
SUMMARY:Pm-Hall Triathlon Szemud 2025
DESCRIPTION:
URL:https://triathloninfo.pl/event/pm-hall-triathlon-szemud-2025/
LOCATION:Szemud pomorskie
CATEGORIES:Aquabike,Triathlon - olimpijski,Triathlon - sprint
END:VEVENT
BEGIN:VEVENT
DTSTART;VALUE=DATE:20250719
DTEND;VALUE=DATE:20250720
DTSTAMP:20260420T204519
CREATED:20250226T134807Z
LAST-MODIFIED:20250226T134807Z
UID:758-1752883200-1752969599@triathloninfo.pl
SUMMARY:MSE Triathlon TRZEBINIA
DESCRIPTION:
URL:https://triathloninfo.pl/event/mse-triathlon-trzebinia/
LOCATION:Trzebinia małopolskie
CATEGORIES:Sztafeta - 1/4 ironman,Triathlon - 1/4 ironman,Triathlon - 1/8 ironman
END:VEVENT
BEGIN:VEVENT
DTSTART;VALUE=DATE:20250719
DTEND;VALUE=DATE:20250720
DTSTAMP:20260420T204519
CREATED:20250226T134640Z
LAST-MODIFIED:20250226T134640Z
UID:757-1752883200-1752969599@triathloninfo.pl
SUMMARY:3 Aquathlon Ciechanów 2025
DESCRIPTION:
URL:https://triathloninfo.pl/event/3-aquathlon-ciechanow-2025/
LOCATION:Ciechanów mazowieckie
CATEGORIES:Aquathlon
END:VEVENT
BEGIN:VEVENT
DTSTART;VALUE=DATE:20250719
DTEND;VALUE=DATE:20250720
DTSTAMP:20260420T204519
CREATED:20250226T134554Z
LAST-MODIFIED:20250226T134554Z
UID:756-1752883200-1752969599@triathloninfo.pl
SUMMARY:GREATMAN Wolsztyn Triathlon 2025
DESCRIPTION:
URL:https://triathloninfo.pl/event/greatman-wolsztyn-triathlon-2025/
LOCATION:Wolsztyn wielkopolskie
CATEGORIES:Kids - duathlon,Kids - triathlon,Sztafeta - 1/4 ironman,Sztafeta - 1/8 ironman,Triathlon - 1/4 ironman,Triathlon - 1/8 ironman
END:VEVENT
BEGIN:VEVENT
DTSTART;VALUE=DATE:20250713
DTEND;VALUE=DATE:20250714
DTSTAMP:20260420T204519
CREATED:20250226T134448Z
LAST-MODIFIED:20250226T134448Z
UID:743-1752364800-1752451199@triathloninfo.pl
SUMMARY:Garmin Triathlon Tour Syców 2025
DESCRIPTION:
URL:https://triathloninfo.pl/event/garmin-triathlon-tour-sycow-2025/
LOCATION:Syców dolnośląskie
CATEGORIES:Triathlon - 1/2 ironman,Triathlon - 1/4 ironman,Triathlon - 1/8 ironman
END:VEVENT
BEGIN:VEVENT
DTSTART;VALUE=DATE:20250712
DTEND;VALUE=DATE:20250714
DTSTAMP:20260420T204519
CREATED:20250226T134404Z
LAST-MODIFIED:20250226T134404Z
UID:742-1752278400-1752451199@triathloninfo.pl
SUMMARY:Enea Bydgoszcz Triathlon 2025
DESCRIPTION:
URL:https://triathloninfo.pl/event/enea-bydgoszcz-triathlon-2025/
LOCATION:Bydgoszcz kujawsko-pomorskie
CATEGORIES:Sztafeta - 1/2 ironman,Sztafeta - 1/4 ironman,Sztafeta - 1/8 ironman,Sztafeta - super sprint,Triathlon - 1/2 ironman,Triathlon - 1/4 ironman,Triathlon - 1/8 ironman,Triathlon - super sprint
END:VEVENT
BEGIN:VEVENT
DTSTART;VALUE=DATE:20250706
DTEND;VALUE=DATE:20250707
DTSTAMP:20260420T204519
CREATED:20250226T134302Z
LAST-MODIFIED:20250226T134302Z
UID:741-1751760000-1751846399@triathloninfo.pl
SUMMARY:4 Lędziński Cross Triathlon 2025
DESCRIPTION:
URL:https://triathloninfo.pl/event/4-ledzinski-cross-triathlon-2025/
LOCATION:Lędziny śląskie
CATEGORIES:Triathlon
END:VEVENT
BEGIN:VEVENT
DTSTART;VALUE=DATE:20250706
DTEND;VALUE=DATE:20250707
DTSTAMP:20260420T204519
CREATED:20250226T134233Z
LAST-MODIFIED:20250226T134233Z
UID:740-1751760000-1751846399@triathloninfo.pl
SUMMARY:Garmin Triathlon Tour Elbląg 2025
DESCRIPTION:
URL:https://triathloninfo.pl/event/garmin-triathlon-tour-elblag-2025/
LOCATION:Elbląg warmińsko-mazurskie
CATEGORIES:Triathlon - 1/2 ironman,Triathlon - 1/4 ironman,Triathlon - 1/8 ironman
END:VEVENT
BEGIN:VEVENT
DTSTART;VALUE=DATE:20250628
DTEND;VALUE=DATE:20250630
DTSTAMP:20260420T204519
CREATED:20250226T133923Z
LAST-MODIFIED:20250226T133923Z
UID:729-1751068800-1751241599@triathloninfo.pl
SUMMARY:Susz Triathlon 2025
DESCRIPTION:
URL:https://triathloninfo.pl/event/susz-triathlon-2025/
LOCATION:Susz pomorskie
CATEGORIES:Aquabike,Bikerun,Sztafeta - sprint,Triathlon - 1/2 ironman,Triathlon - sprint
END:VEVENT
END:VCALENDAR