BEGIN:VCALENDAR
VERSION:2.0
PRODID:-//Wszystko o triathlonie - ECPv6.15.20//NONSGML v1.0//EN
CALSCALE:GREGORIAN
METHOD:PUBLISH
X-WR-CALNAME:Wszystko o triathlonie
X-ORIGINAL-URL:https://triathloninfo.pl
X-WR-CALDESC:Wydarzenia dla Wszystko o triathlonie
REFRESH-INTERVAL;VALUE=DURATION:PT1H
X-Robots-Tag:noindex
X-PUBLISHED-TTL:PT1H
BEGIN:VTIMEZONE
TZID:Europe/Warsaw
BEGIN:DAYLIGHT
TZOFFSETFROM:+0100
TZOFFSETTO:+0200
TZNAME:CEST
DTSTART:20240331T010000
END:DAYLIGHT
BEGIN:STANDARD
TZOFFSETFROM:+0200
TZOFFSETTO:+0100
TZNAME:CET
DTSTART:20241027T010000
END:STANDARD
BEGIN:DAYLIGHT
TZOFFSETFROM:+0100
TZOFFSETTO:+0200
TZNAME:CEST
DTSTART:20250330T010000
END:DAYLIGHT
BEGIN:STANDARD
TZOFFSETFROM:+0200
TZOFFSETTO:+0100
TZNAME:CET
DTSTART:20251026T010000
END:STANDARD
BEGIN:DAYLIGHT
TZOFFSETFROM:+0100
TZOFFSETTO:+0200
TZNAME:CEST
DTSTART:20260329T010000
END:DAYLIGHT
BEGIN:STANDARD
TZOFFSETFROM:+0200
TZOFFSETTO:+0100
TZNAME:CET
DTSTART:20261025T010000
END:STANDARD
END:VTIMEZONE
BEGIN:VEVENT
DTSTART;VALUE=DATE:20250615
DTEND;VALUE=DATE:20250616
DTSTAMP:20260421T014429
CREATED:20250226T132803Z
LAST-MODIFIED:20250226T132803Z
UID:710-1749945600-1750031999@triathloninfo.pl
SUMMARY:Triathlon Lipiany 2025
DESCRIPTION:
URL:https://triathloninfo.pl/event/triathlon-lipiany-2025/
LOCATION:Lipiany zachodniopomorskie
CATEGORIES:Kids - triathlon,Triathlon,Triathlon - olimpijski
END:VEVENT
BEGIN:VEVENT
DTSTART;VALUE=DATE:20250615
DTEND;VALUE=DATE:20250616
DTSTAMP:20260421T014429
CREATED:20250226T132726Z
LAST-MODIFIED:20250226T132726Z
UID:709-1749945600-1750031999@triathloninfo.pl
SUMMARY:Silesiaman Triathlon Bieruń 2025
DESCRIPTION:
URL:https://triathloninfo.pl/event/silesiaman-triathlon-bierun-2025/
LOCATION:Bieruń sląskie
CATEGORIES:Triathlon
END:VEVENT
BEGIN:VEVENT
DTSTART;VALUE=DATE:20250615
DTEND;VALUE=DATE:20250616
DTSTAMP:20260421T014429
CREATED:20250226T132700Z
LAST-MODIFIED:20250226T132700Z
UID:692-1749945600-1750031999@triathloninfo.pl
SUMMARY:Garmin Triathlon Tour Ślesin 2025
DESCRIPTION:
URL:https://triathloninfo.pl/event/garmin-triathlon-tour-slesin-2025/
LOCATION:Ślesin wielkopolskie
CATEGORIES:Triathlon - 1/2 ironman,Triathlon - 1/4 ironman,Triathlon - 1/8 ironman
END:VEVENT
BEGIN:VEVENT
DTSTART;VALUE=DATE:20250615
DTEND;VALUE=DATE:20250616
DTSTAMP:20260421T014429
CREATED:20250226T132627Z
LAST-MODIFIED:20250226T132627Z
UID:691-1749945600-1750031999@triathloninfo.pl
SUMMARY:La Rive Triathlon Grudziądz 2025
DESCRIPTION:
URL:https://triathloninfo.pl/event/la-rive-triathlon-grudziadz-2025/
LOCATION:Grudziądz kujawsko-pomorskie
CATEGORIES:Triathlon - 1/4 ironman,Triathlon - 1/8 ironman
END:VEVENT
BEGIN:VEVENT
DTSTART;VALUE=DATE:20250615
DTEND;VALUE=DATE:20250616
DTSTAMP:20260421T014429
CREATED:20250226T132603Z
LAST-MODIFIED:20250226T132603Z
UID:690-1749945600-1750031999@triathloninfo.pl
SUMMARY:Goodvalley Triathlon Przechlewo 2025
DESCRIPTION:
URL:https://triathloninfo.pl/event/goodvalley-triathlon-przechlewo-2025/
LOCATION:Przechlewo pomorskie
CATEGORIES:Triathlon - 1/4 ironman,Triathlon - 1/8 ironman
END:VEVENT
BEGIN:VEVENT
DTSTART;VALUE=DATE:20250614
DTEND;VALUE=DATE:20250615
DTSTAMP:20260421T014429
CREATED:20250226T132450Z
LAST-MODIFIED:20250226T132501Z
UID:689-1749859200-1749945599@triathloninfo.pl
SUMMARY:Żelazny Triathlon 2025 - 10 Edycja
DESCRIPTION:
URL:https://triathloninfo.pl/event/zelazny-triathlon-2025-10-edycja/
LOCATION:Okuninka lubelskie
CATEGORIES:Triathlon - sprint
END:VEVENT
BEGIN:VEVENT
DTSTART;VALUE=DATE:20250608
DTEND;VALUE=DATE:20250609
DTSTAMP:20260421T014429
CREATED:20250226T132344Z
LAST-MODIFIED:20250226T132344Z
UID:688-1749340800-1749427199@triathloninfo.pl
SUMMARY:Dąbrowski Triathlon 2025
DESCRIPTION:
URL:https://triathloninfo.pl/event/dabrowski-triathlon-2025/
LOCATION:Dąbrowa Górnicza śląskie
CATEGORIES:Triathlon
END:VEVENT
BEGIN:VEVENT
DTSTART;VALUE=DATE:20250608
DTEND;VALUE=DATE:20250609
DTSTAMP:20260421T014429
CREATED:20250226T132143Z
LAST-MODIFIED:20250226T132143Z
UID:687-1749340800-1749427199@triathloninfo.pl
SUMMARY:IRONMAN 70.3 Warsaw 2025
DESCRIPTION:
URL:https://triathloninfo.pl/event/ironman-70-3-warsaw-2025/
LOCATION:Warszawa mazowieckie
CATEGORIES:Triathlon - 1/2 ironman
END:VEVENT
BEGIN:VEVENT
DTSTART;VALUE=DATE:20250608
DTEND;VALUE=DATE:20250609
DTSTAMP:20260421T014429
CREATED:20250226T132109Z
LAST-MODIFIED:20250226T132109Z
UID:686-1749340800-1749427199@triathloninfo.pl
SUMMARY:Pgk Triathlon Puck 2025
DESCRIPTION:
URL:https://triathloninfo.pl/event/pgk-triathlon-puck-2025/
LOCATION:Puck pomorskie
CATEGORIES:Aquabike,Triathlon - mini,Triathlon - olimpijski,Triathlon - sprint
END:VEVENT
BEGIN:VEVENT
DTSTART;VALUE=DATE:20250601
DTEND;VALUE=DATE:20250602
DTSTAMP:20260421T014429
CREATED:20250226T131415Z
LAST-MODIFIED:20250226T131415Z
UID:685-1748736000-1748822399@triathloninfo.pl
SUMMARY:Enea Triathlon Żnin 2025
DESCRIPTION:
URL:https://triathloninfo.pl/event/enea-triathlon-znin-2025/
LOCATION:Żnin kujawsko-pomorskie
CATEGORIES:Kids - run,Sztafeta - 1/2 ironman,Sztafeta - 1/4 ironman,Sztafeta - 1/8 ironman,Triathlon - 1/2 ironman,Triathlon - 1/4 ironman,Triathlon - 1/8 ironman
END:VEVENT
BEGIN:VEVENT
DTSTART;VALUE=DATE:20250601
DTEND;VALUE=DATE:20250602
DTSTAMP:20260421T014429
CREATED:20250226T131212Z
LAST-MODIFIED:20250226T131212Z
UID:674-1748736000-1748822399@triathloninfo.pl
SUMMARY:Lotto Triathlon Energy Lublin 2025
DESCRIPTION:
URL:https://triathloninfo.pl/event/lotto-triathlon-energy-lublin-2025/
LOCATION:Lublin lubelskie
CATEGORIES:Triathlon - 1/4 ironman,Triathlon - 1/8 ironman
END:VEVENT
BEGIN:VEVENT
DTSTART;VALUE=DATE:20250530
DTEND;VALUE=DATE:20250602
DTSTAMP:20260421T014429
CREATED:20250226T130840Z
LAST-MODIFIED:20250226T130840Z
UID:673-1748563200-1748822399@triathloninfo.pl
SUMMARY:JBL Triathlon Sieraków 2025
DESCRIPTION:
URL:https://triathloninfo.pl/event/jbl-triathlon-sierakow-2025/
LOCATION:Sieraków wielkopolskie
CATEGORIES:Kids - duathlon,Kids - run,Sztafeta - 1/4 ironman,Sztafeta - 1/8 ironman,Triathlon - 1/2 ironman,Triathlon - 1/4 ironman,Triathlon - 1/8 ironman
END:VEVENT
BEGIN:VEVENT
DTSTART;VALUE=DATE:20250525
DTEND;VALUE=DATE:20250526
DTSTAMP:20260421T014429
CREATED:20250226T125732Z
LAST-MODIFIED:20250226T125732Z
UID:672-1748131200-1748217599@triathloninfo.pl
SUMMARY:Silesiaman Triathlon Pszczyna 2025
DESCRIPTION:
URL:https://triathloninfo.pl/event/silesiaman-triathlon-pszczyna-2025/
LOCATION:Pszczyna śląskie
CATEGORIES:Triathlon - 1/8 ironman
END:VEVENT
BEGIN:VEVENT
DTSTART;VALUE=DATE:20250524
DTEND;VALUE=DATE:20250526
DTSTAMP:20260421T014429
CREATED:20250226T125702Z
LAST-MODIFIED:20250226T125702Z
UID:671-1748044800-1748217599@triathloninfo.pl
SUMMARY:Triathlon w Zimnej Wodzie 2025
DESCRIPTION:
URL:https://triathloninfo.pl/event/triathlon-w-zimnej-wodzie-2025/
LOCATION:Łuków lubelskie
CATEGORIES:Sztafeta - 1/2 ironman,Sztafeta - 1/4 ironman,Sztafeta - 1/8 ironman,Triathlon - 1/2 ironman,Triathlon - 1/4 ironman,Triathlon - 1/8 ironman
END:VEVENT
BEGIN:VEVENT
DTSTART;VALUE=DATE:20250524
DTEND;VALUE=DATE:20250525
DTSTAMP:20260421T014429
CREATED:20250226T125605Z
LAST-MODIFIED:20250226T125605Z
UID:663-1748044800-1748131199@triathloninfo.pl
SUMMARY:Triathlon Opolski 2025
DESCRIPTION:
URL:https://triathloninfo.pl/event/triathlon-opolski-2025/
LOCATION:Popielów opolskie
CATEGORIES:Kids - duathlon,Sztafeta - 1/4 ironman,Triathlon - 1/4 ironman,Triathlon - 1/8 ironman
END:VEVENT
BEGIN:VEVENT
DTSTART;VALUE=DATE:20250524
DTEND;VALUE=DATE:20250525
DTSTAMP:20260421T014429
CREATED:20250226T125521Z
LAST-MODIFIED:20250226T125521Z
UID:662-1748044800-1748131199@triathloninfo.pl
SUMMARY:GREATMAN Mietków Triathlon 2025
DESCRIPTION:
URL:https://triathloninfo.pl/event/greatman-mietkow-triathlon-2025/
LOCATION:Mietków dolnosląskie
CATEGORIES:Kids - duathlon,Kids - triathlon,Sztafeta - 1/4 ironman,Sztafeta - 1/8 ironman,Triathlon - 1/4 ironman,Triathlon - 1/8 ironman
END:VEVENT
BEGIN:VEVENT
DTSTART;VALUE=DATE:20250518
DTEND;VALUE=DATE:20250519
DTSTAMP:20260421T014429
CREATED:20250226T125416Z
LAST-MODIFIED:20250226T125416Z
UID:661-1747526400-1747612799@triathloninfo.pl
SUMMARY:Garmin Triathlon Tour Żyrardów 2025
DESCRIPTION:
URL:https://triathloninfo.pl/event/garmin-triathlon-tour-zyrardow-2025/
LOCATION:Żyrardów mazowieckie
CATEGORIES:Triathlon - 1/2 ironman,Triathlon - 1/4 ironman,Triathlon - 1/8 ironman
END:VEVENT
BEGIN:VEVENT
DTSTART;VALUE=DATE:20250518
DTEND;VALUE=DATE:20250519
DTSTAMP:20260421T014429
CREATED:20250226T125330Z
LAST-MODIFIED:20250226T125330Z
UID:660-1747526400-1747612799@triathloninfo.pl
SUMMARY:Hoffer Triathlon Działdowo 2025
DESCRIPTION:
URL:https://triathloninfo.pl/event/hoffer-triathlon-dzialdowo-2025/
LOCATION:Działdowo mazowieckie
CATEGORIES:Triathlon - 1/4 ironman,Triathlon - 1/8 ironman
END:VEVENT
BEGIN:VEVENT
DTSTART;VALUE=DATE:20250517
DTEND;VALUE=DATE:20250518
DTSTAMP:20260421T014429
CREATED:20250226T125252Z
LAST-MODIFIED:20250226T125252Z
UID:659-1747440000-1747526399@triathloninfo.pl
SUMMARY:Enea Bydgoszcz Triathlon Pod Dachem Maj 2025
DESCRIPTION:
URL:https://triathloninfo.pl/event/enea-bydgoszcz-triathlon-pod-dachem-maj-2025/
LOCATION:Bydgoszcz kujawsko-pomorskie
CATEGORIES:Triathlon - indoor
END:VEVENT
BEGIN:VEVENT
DTSTART;VALUE=DATE:20250517
DTEND;VALUE=DATE:20250518
DTSTAMP:20260421T014429
CREATED:20250226T125221Z
LAST-MODIFIED:20250226T125221Z
UID:648-1747440000-1747526399@triathloninfo.pl
SUMMARY:MSE OSIEK Triathlon
DESCRIPTION:
URL:https://triathloninfo.pl/event/mse-osiek-triathlon/
LOCATION:Osiek małopolskie
CATEGORIES:Sztafeta - 1/4 ironman,Sztafeta - 1/8 ironman,Triathlon - 1/4 ironman,Triathlon - 1/8 ironman
END:VEVENT
BEGIN:VEVENT
DTSTART;VALUE=DATE:20250517
DTEND;VALUE=DATE:20250518
DTSTAMP:20260421T014429
CREATED:20250226T125141Z
LAST-MODIFIED:20250226T125141Z
UID:647-1747440000-1747526399@triathloninfo.pl
SUMMARY:Gravel Triathlon Zbiczno 2025
DESCRIPTION:
URL:https://triathloninfo.pl/event/gravel-triathlon-zbiczno-2025/
LOCATION:Brzozie kujawsko-pomorskie
CATEGORIES:Bikerun,Triathlon
END:VEVENT
BEGIN:VEVENT
DTSTART;VALUE=DATE:20250517
DTEND;VALUE=DATE:20250518
DTSTAMP:20260421T014429
CREATED:20250226T125059Z
LAST-MODIFIED:20250226T125059Z
UID:644-1747440000-1747526399@triathloninfo.pl
SUMMARY:Legendman Xtreme Triathlon 2025
DESCRIPTION:
URL:https://triathloninfo.pl/event/legendman-xtreme-triathlon-2025/
LOCATION:Jedlina Zdrój dolnośląskie
CATEGORIES:Triathlon - extreme
END:VEVENT
BEGIN:VEVENT
DTSTART;VALUE=DATE:20250511
DTEND;VALUE=DATE:20250512
DTSTAMP:20260421T014429
CREATED:20250226T125030Z
LAST-MODIFIED:20250226T125030Z
UID:643-1746921600-1747007999@triathloninfo.pl
SUMMARY:Marconi Duathlon Świdnica 2025
DESCRIPTION:
URL:https://triathloninfo.pl/event/marconi-duathlon-swidnica-2025/
LOCATION:Świdnica dolnośląskie
CATEGORIES:Duathlon
END:VEVENT
BEGIN:VEVENT
DTSTART;VALUE=DATE:20250510
DTEND;VALUE=DATE:20250512
DTSTAMP:20260421T014429
CREATED:20250226T125007Z
LAST-MODIFIED:20250226T125007Z
UID:642-1746835200-1747007999@triathloninfo.pl
SUMMARY:Nocny Duathlon w Porcie Lotniczym Gdańsk 2025
DESCRIPTION:
URL:https://triathloninfo.pl/event/nocny-duathlon-w-porcie-lotniczym-gdansk-2025/
LOCATION:Gdańsk pomorskie
CATEGORIES:Duathlon
END:VEVENT
BEGIN:VEVENT
DTSTART;VALUE=DATE:20250509
DTEND;VALUE=DATE:20250511
DTSTAMP:20260421T014429
CREATED:20250226T124934Z
LAST-MODIFIED:20250226T124934Z
UID:630-1746748800-1746921599@triathloninfo.pl
SUMMARY:Championman Duathlon Czempiń 2025
DESCRIPTION:
URL:https://triathloninfo.pl/event/championman-duathlon-czempin-2025/
LOCATION:Czempiń wielkopolskie
CATEGORIES:Duathlon,Kids - duathlon
END:VEVENT
BEGIN:VEVENT
DTSTART;VALUE=DATE:20250504
DTEND;VALUE=DATE:20250505
DTSTAMP:20260421T014429
CREATED:20250226T124850Z
LAST-MODIFIED:20250226T124850Z
UID:629-1746316800-1746403199@triathloninfo.pl
SUMMARY:MSE Duathlon Radwanice
DESCRIPTION:
URL:https://triathloninfo.pl/event/mse-duathlon-radwanice/
LOCATION:Radwanice k/Głogowa dolnośląskie
CATEGORIES:Classic,Greatkids,Sprint
END:VEVENT
BEGIN:VEVENT
DTSTART;VALUE=DATE:20250426
DTEND;VALUE=DATE:20250428
DTSTAMP:20260421T014429
CREATED:20250226T124627Z
LAST-MODIFIED:20250226T124627Z
UID:624-1745625600-1745798399@triathloninfo.pl
SUMMARY:Lotto Duathlon Energy Rumia 2025
DESCRIPTION:
URL:https://triathloninfo.pl/event/lotto-duathlon-energy-rumia-2025/
LOCATION:Rumia pomorskie
CATEGORIES:Duathlon - sprint,Duathlon - standard
END:VEVENT
BEGIN:VEVENT
DTSTART;VALUE=DATE:20250426
DTEND;VALUE=DATE:20250427
DTSTAMP:20260421T014429
CREATED:20250226T124749Z
LAST-MODIFIED:20250226T124749Z
UID:628-1745625600-1745711999@triathloninfo.pl
SUMMARY:Duathlon Borowice 2025
DESCRIPTION:
URL:https://triathloninfo.pl/event/duathlon-borowice-2025/
LOCATION:Borowice dolnośląskie
CATEGORIES:Duathlon
END:VEVENT
BEGIN:VEVENT
DTSTART;VALUE=DATE:20250426
DTEND;VALUE=DATE:20250427
DTSTAMP:20260421T014429
CREATED:20250226T124723Z
LAST-MODIFIED:20250226T124723Z
UID:625-1745625600-1745711999@triathloninfo.pl
SUMMARY:Charytatywny Paratriathlon Dryżynowy Kraina Liwca 2025
DESCRIPTION:
URL:https://triathloninfo.pl/event/charytatywny-paratriathlon-dryzynowy-kraina-liwca-2025/
LOCATION:Łochów mazowieckie
CATEGORIES:Paratriathlon
END:VEVENT
BEGIN:VEVENT
DTSTART;VALUE=DATE:20250426
DTEND;VALUE=DATE:20250427
DTSTAMP:20260421T014429
CREATED:20250226T124555Z
LAST-MODIFIED:20250226T124555Z
UID:623-1745625600-1745711999@triathloninfo.pl
SUMMARY:Wisła Extreme Duathlon 2025
DESCRIPTION:
URL:https://triathloninfo.pl/event/wisla-extreme-duathlon-2025/
LOCATION:Wisła śląskie
CATEGORIES:Duathlon
END:VEVENT
END:VCALENDAR