BEGIN:VCALENDAR
VERSION:2.0
PRODID:-//Wszystko o triathlonie - ECPv6.15.20//NONSGML v1.0//EN
CALSCALE:GREGORIAN
METHOD:PUBLISH
X-WR-CALNAME:Wszystko o triathlonie
X-ORIGINAL-URL:https://triathloninfo.pl
X-WR-CALDESC:Wydarzenia dla Wszystko o triathlonie
REFRESH-INTERVAL;VALUE=DURATION:PT1H
X-Robots-Tag:noindex
X-PUBLISHED-TTL:PT1H
BEGIN:VTIMEZONE
TZID:Europe/Warsaw
BEGIN:DAYLIGHT
TZOFFSETFROM:+0100
TZOFFSETTO:+0200
TZNAME:CEST
DTSTART:20240331T010000
END:DAYLIGHT
BEGIN:STANDARD
TZOFFSETFROM:+0200
TZOFFSETTO:+0100
TZNAME:CET
DTSTART:20241027T010000
END:STANDARD
BEGIN:DAYLIGHT
TZOFFSETFROM:+0100
TZOFFSETTO:+0200
TZNAME:CEST
DTSTART:20250330T010000
END:DAYLIGHT
BEGIN:STANDARD
TZOFFSETFROM:+0200
TZOFFSETTO:+0100
TZNAME:CET
DTSTART:20251026T010000
END:STANDARD
BEGIN:DAYLIGHT
TZOFFSETFROM:+0100
TZOFFSETTO:+0200
TZNAME:CEST
DTSTART:20260329T010000
END:DAYLIGHT
BEGIN:STANDARD
TZOFFSETFROM:+0200
TZOFFSETTO:+0100
TZNAME:CET
DTSTART:20261025T010000
END:STANDARD
END:VTIMEZONE
BEGIN:VEVENT
DTSTART;VALUE=DATE:20250509
DTEND;VALUE=DATE:20250511
DTSTAMP:20260421T053521
CREATED:20250226T124934Z
LAST-MODIFIED:20250226T124934Z
UID:630-1746748800-1746921599@triathloninfo.pl
SUMMARY:Championman Duathlon Czempiń 2025
DESCRIPTION:
URL:https://triathloninfo.pl/event/championman-duathlon-czempin-2025/
LOCATION:Czempiń wielkopolskie
CATEGORIES:Duathlon,Kids - duathlon
END:VEVENT
BEGIN:VEVENT
DTSTART;VALUE=DATE:20250504
DTEND;VALUE=DATE:20250505
DTSTAMP:20260421T053521
CREATED:20250226T124850Z
LAST-MODIFIED:20250226T124850Z
UID:629-1746316800-1746403199@triathloninfo.pl
SUMMARY:MSE Duathlon Radwanice
DESCRIPTION:
URL:https://triathloninfo.pl/event/mse-duathlon-radwanice/
LOCATION:Radwanice k/Głogowa dolnośląskie
CATEGORIES:Classic,Greatkids,Sprint
END:VEVENT
BEGIN:VEVENT
DTSTART;VALUE=DATE:20250426
DTEND;VALUE=DATE:20250428
DTSTAMP:20260421T053521
CREATED:20250226T124627Z
LAST-MODIFIED:20250226T124627Z
UID:624-1745625600-1745798399@triathloninfo.pl
SUMMARY:Lotto Duathlon Energy Rumia 2025
DESCRIPTION:
URL:https://triathloninfo.pl/event/lotto-duathlon-energy-rumia-2025/
LOCATION:Rumia pomorskie
CATEGORIES:Duathlon - sprint,Duathlon - standard
END:VEVENT
BEGIN:VEVENT
DTSTART;VALUE=DATE:20250426
DTEND;VALUE=DATE:20250427
DTSTAMP:20260421T053521
CREATED:20250226T124749Z
LAST-MODIFIED:20250226T124749Z
UID:628-1745625600-1745711999@triathloninfo.pl
SUMMARY:Duathlon Borowice 2025
DESCRIPTION:
URL:https://triathloninfo.pl/event/duathlon-borowice-2025/
LOCATION:Borowice dolnośląskie
CATEGORIES:Duathlon
END:VEVENT
BEGIN:VEVENT
DTSTART;VALUE=DATE:20250426
DTEND;VALUE=DATE:20250427
DTSTAMP:20260421T053521
CREATED:20250226T124723Z
LAST-MODIFIED:20250226T124723Z
UID:625-1745625600-1745711999@triathloninfo.pl
SUMMARY:Charytatywny Paratriathlon Dryżynowy Kraina Liwca 2025
DESCRIPTION:
URL:https://triathloninfo.pl/event/charytatywny-paratriathlon-dryzynowy-kraina-liwca-2025/
LOCATION:Łochów mazowieckie
CATEGORIES:Paratriathlon
END:VEVENT
BEGIN:VEVENT
DTSTART;VALUE=DATE:20250426
DTEND;VALUE=DATE:20250427
DTSTAMP:20260421T053521
CREATED:20250226T124555Z
LAST-MODIFIED:20250226T124555Z
UID:623-1745625600-1745711999@triathloninfo.pl
SUMMARY:Wisła Extreme Duathlon 2025
DESCRIPTION:
URL:https://triathloninfo.pl/event/wisla-extreme-duathlon-2025/
LOCATION:Wisła śląskie
CATEGORIES:Duathlon
END:VEVENT
BEGIN:VEVENT
DTSTART;VALUE=DATE:20250412
DTEND;VALUE=DATE:20250413
DTSTAMP:20260421T053521
CREATED:20250226T124532Z
LAST-MODIFIED:20250226T124532Z
UID:615-1744416000-1744502399@triathloninfo.pl
SUMMARY:IV Duathlon Im. Gen. F. Kleeberga 2025
DESCRIPTION:
URL:https://triathloninfo.pl/event/iv-duathlon-im-gen-f-kleeberga-2025/
LOCATION:Wola Gułowska lubelskie
CATEGORIES:Duathlon
END:VEVENT
BEGIN:VEVENT
DTSTART;VALUE=DATE:20250412
DTEND;VALUE=DATE:20250413
DTSTAMP:20260421T053521
CREATED:20250226T124457Z
LAST-MODIFIED:20250226T124457Z
UID:614-1744416000-1744502399@triathloninfo.pl
SUMMARY:Silesiaman Duathlon Katowice 2025
DESCRIPTION:
URL:https://triathloninfo.pl/event/silesiaman-duathlon-katowice-2025/
LOCATION:Katowice śląskie
CATEGORIES:Duathlon
END:VEVENT
BEGIN:VEVENT
DTSTART;VALUE=DATE:20250405
DTEND;VALUE=DATE:20250407
DTSTAMP:20260421T053521
CREATED:20250226T124358Z
LAST-MODIFIED:20250226T124358Z
UID:613-1743811200-1743983999@triathloninfo.pl
SUMMARY:Audi Franowo Cave Triathlon 2025
DESCRIPTION:
URL:https://triathloninfo.pl/event/audi-franowo-cave-triathlon-2025/
LOCATION:Czerwonak wielkopolskie\, czerwonak\, Poland
CATEGORIES:Triathlon
END:VEVENT
BEGIN:VEVENT
DTSTART;VALUE=DATE:20250405
DTEND;VALUE=DATE:20250406
DTSTAMP:20260421T053521
CREATED:20250226T124224Z
LAST-MODIFIED:20250226T124224Z
UID:612-1743811200-1743897599@triathloninfo.pl
SUMMARY:Enea Bydgoszcz Triathlon Pod Dachem Kwiecień 2025
DESCRIPTION:
URL:https://triathloninfo.pl/event/enea-bydgoszcz-triathlon-pod-dachem-kwiecien-2025/
LOCATION:Bydgoszcz kujawsko-pomorskie
CATEGORIES:Triathlon - indoor
END:VEVENT
BEGIN:VEVENT
DTSTART;VALUE=DATE:20250329
DTEND;VALUE=DATE:20250330
DTSTAMP:20260421T053521
CREATED:20250226T124144Z
LAST-MODIFIED:20250226T124144Z
UID:611-1743206400-1743292799@triathloninfo.pl
SUMMARY:3 Kołobrzeski Triathlon Indoor 2025
DESCRIPTION:
URL:https://triathloninfo.pl/event/3-kolobrzeski-triathlon-indoor-2025/
LOCATION:Kołobrzeg zachodniopomorskie
CATEGORIES:Triathlon - indoor
END:VEVENT
BEGIN:VEVENT
DTSTART;VALUE=DATE:20250308
DTEND;VALUE=DATE:20250309
DTSTAMP:20260421T053521
CREATED:20250226T120446Z
LAST-MODIFIED:20250226T121527Z
UID:553-1741392000-1741478399@triathloninfo.pl
SUMMARY:Enea Bydgoszcz Triathlon Pod Dachem Marzec 2025
DESCRIPTION:
URL:https://triathloninfo.pl/event/enea-bydgoszcz-triathlon-pod-dachem-marzec-2025/
LOCATION:Bydgoszcz kujawsko-pomorskie
CATEGORIES:Triathlon - indoor
END:VEVENT
BEGIN:VEVENT
DTSTART;VALUE=DATE:20250226
DTEND;VALUE=DATE:20250227
DTSTAMP:20260421T053521
CREATED:20250226T134054Z
LAST-MODIFIED:20250226T134054Z
UID:739-1740528000-1740614399@triathloninfo.pl
SUMMARY:Isands Cross Triathlon Strawczyn 2025
DESCRIPTION:
URL:https://triathloninfo.pl/event/isands-cross-triathlon-strawczyn-2025/
LOCATION:Strawczyn świętokrzyskie
CATEGORIES:Sztafeta - sprint,Triathlon - sprint
END:VEVENT
BEGIN:VEVENT
DTSTART;VALUE=DATE:20250226
DTEND;VALUE=DATE:20250227
DTSTAMP:20260421T053521
CREATED:20250226T134017Z
LAST-MODIFIED:20250226T134017Z
UID:738-1740528000-1740614399@triathloninfo.pl
SUMMARY:Garmin Triathlon Tour Skierniewice 2025
DESCRIPTION:
URL:https://triathloninfo.pl/event/garmin-triathlon-tour-skierniewice-2025/
LOCATION:Skierniewice łódzkie
CATEGORIES:Triathlon - 1/2 ironman,Triathlon - 1/4 ironman,Triathlon - 1/8 ironman
END:VEVENT
END:VCALENDAR